




BEGIN:VCALENDAR
VERSION:2.0
PRODID:-//Housing Authority Of County Of Alameda HACA - ECPv6.15.20//NONSGML v1.0//EN
CALSCALE:GREGORIAN
METHOD:PUBLISH
X-WR-CALNAME:Housing Authority Of County Of Alameda HACA
X-ORIGINAL-URL:https://www.haca.net
X-WR-CALDESC:Events for Housing Authority Of County Of Alameda HACA
REFRESH-INTERVAL;VALUE=DURATION:PT1H
X-Robots-Tag:noindex
X-PUBLISHED-TTL:PT1H
BEGIN:VTIMEZONE
TZID:America/Los_Angeles
BEGIN:DAYLIGHT
TZOFFSETFROM:-0800
TZOFFSETTO:-0700
TZNAME:PDT
DTSTART:20190310T100000
END:DAYLIGHT
BEGIN:STANDARD
TZOFFSETFROM:-0700
TZOFFSETTO:-0800
TZNAME:PST
DTSTART:20191103T090000
END:STANDARD
BEGIN:DAYLIGHT
TZOFFSETFROM:-0800
TZOFFSETTO:-0700
TZNAME:PDT
DTSTART:20200308T100000
END:DAYLIGHT
BEGIN:STANDARD
TZOFFSETFROM:-0700
TZOFFSETTO:-0800
TZNAME:PST
DTSTART:20201101T090000
END:STANDARD
BEGIN:DAYLIGHT
TZOFFSETFROM:-0800
TZOFFSETTO:-0700
TZNAME:PDT
DTSTART:20210314T100000
END:DAYLIGHT
BEGIN:STANDARD
TZOFFSETFROM:-0700
TZOFFSETTO:-0800
TZNAME:PST
DTSTART:20211107T090000
END:STANDARD
END:VTIMEZONE
BEGIN:VEVENT
DTSTART;TZID=America/Los_Angeles:20200311T080000
DTEND;TZID=America/Los_Angeles:20200311T090000
DTSTAMP:20260424T200353
CREATED:20200313T213955Z
LAST-MODIFIED:20200313T213955Z
UID:1121-1583913600-1583917200@www.haca.net
SUMMARY:Housing Commission Regular Meeting
DESCRIPTION:
URL:https://www.haca.net/event/housing-commission-regular-meeting-2/
CATEGORIES:Commission Meetings
END:VEVENT
END:VCALENDAR