




BEGIN:VCALENDAR
VERSION:2.0
PRODID:-//Housing Authority Of County Of Alameda HACA - ECPv6.15.20//NONSGML v1.0//EN
CALSCALE:GREGORIAN
METHOD:PUBLISH
X-WR-CALNAME:Housing Authority Of County Of Alameda HACA
X-ORIGINAL-URL:https://www.haca.net
X-WR-CALDESC:Events for Housing Authority Of County Of Alameda HACA
REFRESH-INTERVAL;VALUE=DURATION:PT1H
X-Robots-Tag:noindex
X-PUBLISHED-TTL:PT1H
BEGIN:VTIMEZONE
TZID:America/Los_Angeles
BEGIN:DAYLIGHT
TZOFFSETFROM:-0800
TZOFFSETTO:-0700
TZNAME:PDT
DTSTART:20240310T100000
END:DAYLIGHT
BEGIN:STANDARD
TZOFFSETFROM:-0700
TZOFFSETTO:-0800
TZNAME:PST
DTSTART:20241103T090000
END:STANDARD
BEGIN:DAYLIGHT
TZOFFSETFROM:-0800
TZOFFSETTO:-0700
TZNAME:PDT
DTSTART:20250309T100000
END:DAYLIGHT
BEGIN:STANDARD
TZOFFSETFROM:-0700
TZOFFSETTO:-0800
TZNAME:PST
DTSTART:20251102T090000
END:STANDARD
BEGIN:DAYLIGHT
TZOFFSETFROM:-0800
TZOFFSETTO:-0700
TZNAME:PDT
DTSTART:20260308T100000
END:DAYLIGHT
BEGIN:STANDARD
TZOFFSETFROM:-0700
TZOFFSETTO:-0800
TZNAME:PST
DTSTART:20261101T090000
END:STANDARD
END:VTIMEZONE
BEGIN:VEVENT
DTSTART;TZID=America/Los_Angeles:20250205T074500
DTEND;TZID=America/Los_Angeles:20250205T080000
DTSTAMP:20260421T022312
CREATED:20250130T172232Z
LAST-MODIFIED:20250130T172309Z
UID:6544-1738741500-1738742400@www.haca.net
SUMMARY:Personnel Committee Meeting
DESCRIPTION:
URL:https://www.haca.net/event/personnel-committee-meeting-8/
CATEGORIES:Commission Meetings
END:VEVENT
BEGIN:VEVENT
DTSTART;TZID=America/Los_Angeles:20250212T080000
DTEND;TZID=America/Los_Angeles:20250212T090000
DTSTAMP:20260421T022312
CREATED:20250130T172404Z
LAST-MODIFIED:20250130T172437Z
UID:6546-1739347200-1739350800@www.haca.net
SUMMARY:*CANCELLED* Housing Commission Regular Meeting
DESCRIPTION:
URL:https://www.haca.net/event/cancelled-housing-commission-regular-meeting-7/
CATEGORIES:Commission Meetings
END:VEVENT
END:VCALENDAR