




BEGIN:VCALENDAR
VERSION:2.0
PRODID:-//Housing Authority Of County Of Alameda HACA - ECPv6.15.20//NONSGML v1.0//EN
CALSCALE:GREGORIAN
METHOD:PUBLISH
X-ORIGINAL-URL:https://www.haca.net
X-WR-CALDESC:Events for Housing Authority Of County Of Alameda HACA
REFRESH-INTERVAL;VALUE=DURATION:PT1H
X-Robots-Tag:noindex
X-PUBLISHED-TTL:PT1H
BEGIN:VTIMEZONE
TZID:America/Los_Angeles
BEGIN:DAYLIGHT
TZOFFSETFROM:-0800
TZOFFSETTO:-0700
TZNAME:PDT
DTSTART:20190310T100000
END:DAYLIGHT
BEGIN:STANDARD
TZOFFSETFROM:-0700
TZOFFSETTO:-0800
TZNAME:PST
DTSTART:20191103T090000
END:STANDARD
BEGIN:DAYLIGHT
TZOFFSETFROM:-0800
TZOFFSETTO:-0700
TZNAME:PDT
DTSTART:20200308T100000
END:DAYLIGHT
BEGIN:STANDARD
TZOFFSETFROM:-0700
TZOFFSETTO:-0800
TZNAME:PST
DTSTART:20201101T090000
END:STANDARD
BEGIN:DAYLIGHT
TZOFFSETFROM:-0800
TZOFFSETTO:-0700
TZNAME:PDT
DTSTART:20210314T100000
END:DAYLIGHT
BEGIN:STANDARD
TZOFFSETFROM:-0700
TZOFFSETTO:-0800
TZNAME:PST
DTSTART:20211107T090000
END:STANDARD
END:VTIMEZONE
BEGIN:VEVENT
DTSTART;TZID=America/Los_Angeles:20200714T080000
DTEND;TZID=America/Los_Angeles:20200714T090000
DTSTAMP:20260424T152253
CREATED:20200714T153516Z
LAST-MODIFIED:20200714T153516Z
UID:1153-1594713600-1594717200@www.haca.net
SUMMARY:Housing Commission Regular Meeting via Zoom/Telephone
DESCRIPTION:COVID-19 UPDATE:  Based on guidance provided by the Centers for Disease Control Prevention\, the Shelter in Place order from Alameda County Public Health officials and Governor Newsom’s Stay-at-Home Order\, HACA’s office building is temporarily closed to the public until further notice.  The Housing Commission will conduct this meeting electronically.  You may participate in this meeting through one of the following options: \nMembers of the public may listen\, view\, and/or participate in this meeting using Zoom.  Using Zoom is free of charge; however\, you may have to download the Zoom app to your device.  Downloading Zoom is free of charge.  To join the electronic meeting using the Zoom video conference platform\, you can click on this link:   https://us02web.zoom.us/j/85668636626 or do one of the following: \n  \n\n\n\nFrom a desktop or laptop:\n \nFrom a mobile device\, e.g.\, cell phone and/or iPad or tablet:\n\n\nGo to:  https://zoom.us/join \n  \nEnter Meeting ID:  856 6863 6626\n \nDownload the Zoom app to your device.  In the app tap on “Join Meeting” \nEnter Meeting ID:  856 6863 6626\n\n\n\n  \nParticipate via Telephone: \nTo access the meeting via telephone:  Dial-in#:  1-888-788-0099 (US Toll-Free) and when prompted\, enter Meeting ID:  856 6863 6626. \n  \nPUBLIC COMMENT \nTo allow the opportunity for all to speak\, a time limit of 3 minutes has been set for public speakers wishing to address the Housing Commission.  The Chairperson has the discretion to further limit this time if warranted by the number of speakers. \n  \nIf you wish to comment on a matter NOT on the agenda\, please email your comment to the Commission Clerk at melissat@haca.net preferably by 5:00 p.m. on Tuesday\, July 7\, 2020.  Upon recognition by the Chairperson during Public Comment\, state your name\, comments and/or questions.  Anyone wishing to address the Commission on an agenda item or on business introduced by the Housing Commission may do so when the Chairperson calls for comments on the agenda item.  Please be brief and limit your comments to the specific subject under discussion.  NOTE: Only matters within the Housing Commission’s jurisdiction may be addressed. \n  \nThank you for your understanding and flexibility during the COVID-19 public health emergency. \nIf you have any questions please contact (510)727-8511 or melissat@haca.net. \nMeeting Agenda\n  \n 
URL:https://www.haca.net/event/housing-commission-regular-meeting-via-zoom-telephone/
CATEGORIES:Commission Meetings
END:VEVENT
END:VCALENDAR