




BEGIN:VCALENDAR
VERSION:2.0
PRODID:-//Housing Authority Of County Of Alameda HACA - ECPv6.15.20//NONSGML v1.0//EN
CALSCALE:GREGORIAN
METHOD:PUBLISH
X-WR-CALNAME:Housing Authority Of County Of Alameda HACA
X-ORIGINAL-URL:https://www.haca.net
X-WR-CALDESC:Events for Housing Authority Of County Of Alameda HACA
REFRESH-INTERVAL;VALUE=DURATION:PT1H
X-Robots-Tag:noindex
X-PUBLISHED-TTL:PT1H
BEGIN:VTIMEZONE
TZID:America/Los_Angeles
BEGIN:DAYLIGHT
TZOFFSETFROM:-0800
TZOFFSETTO:-0700
TZNAME:PDT
DTSTART:20190310T100000
END:DAYLIGHT
BEGIN:STANDARD
TZOFFSETFROM:-0700
TZOFFSETTO:-0800
TZNAME:PST
DTSTART:20191103T090000
END:STANDARD
BEGIN:DAYLIGHT
TZOFFSETFROM:-0800
TZOFFSETTO:-0700
TZNAME:PDT
DTSTART:20200308T100000
END:DAYLIGHT
BEGIN:STANDARD
TZOFFSETFROM:-0700
TZOFFSETTO:-0800
TZNAME:PST
DTSTART:20201101T090000
END:STANDARD
BEGIN:DAYLIGHT
TZOFFSETFROM:-0800
TZOFFSETTO:-0700
TZNAME:PDT
DTSTART:20210314T100000
END:DAYLIGHT
BEGIN:STANDARD
TZOFFSETFROM:-0700
TZOFFSETTO:-0800
TZNAME:PST
DTSTART:20211107T090000
END:STANDARD
END:VTIMEZONE
BEGIN:VEVENT
DTSTART;TZID=America/Los_Angeles:20201118T080000
DTEND;TZID=America/Los_Angeles:20201118T090000
DTSTAMP:20260424T092130
CREATED:20201029T004226Z
LAST-MODIFIED:20201113T181117Z
UID:2333-1605686400-1605690000@www.haca.net
SUMMARY:Special Housing Commission Meeting
DESCRIPTION:A Special meeting of the HACA Housing Commission is scheduled for Wednesday\, November 18\, 2020 at 8:00 a.m.  This meeting will be conducted virtually via Zoom and by telephone. \nMeeting Agenda and Information for 11/18/2020\n 
URL:https://www.haca.net/event/special-housing-commission-meeting/
CATEGORIES:Commission Meetings
END:VEVENT
END:VCALENDAR