




BEGIN:VCALENDAR
VERSION:2.0
PRODID:-//Housing Authority Of County Of Alameda HACA - ECPv6.15.20//NONSGML v1.0//EN
CALSCALE:GREGORIAN
METHOD:PUBLISH
X-WR-CALNAME:Housing Authority Of County Of Alameda HACA
X-ORIGINAL-URL:https://www.haca.net
X-WR-CALDESC:Events for Housing Authority Of County Of Alameda HACA
REFRESH-INTERVAL;VALUE=DURATION:PT1H
X-Robots-Tag:noindex
X-PUBLISHED-TTL:PT1H
BEGIN:VTIMEZONE
TZID:America/Los_Angeles
BEGIN:DAYLIGHT
TZOFFSETFROM:-0800
TZOFFSETTO:-0700
TZNAME:PDT
DTSTART:20240310T100000
END:DAYLIGHT
BEGIN:STANDARD
TZOFFSETFROM:-0700
TZOFFSETTO:-0800
TZNAME:PST
DTSTART:20241103T090000
END:STANDARD
BEGIN:DAYLIGHT
TZOFFSETFROM:-0800
TZOFFSETTO:-0700
TZNAME:PDT
DTSTART:20250309T100000
END:DAYLIGHT
BEGIN:STANDARD
TZOFFSETFROM:-0700
TZOFFSETTO:-0800
TZNAME:PST
DTSTART:20251102T090000
END:STANDARD
BEGIN:DAYLIGHT
TZOFFSETFROM:-0800
TZOFFSETTO:-0700
TZNAME:PDT
DTSTART:20260308T100000
END:DAYLIGHT
BEGIN:STANDARD
TZOFFSETFROM:-0700
TZOFFSETTO:-0800
TZNAME:PST
DTSTART:20261101T090000
END:STANDARD
END:VTIMEZONE
BEGIN:VEVENT
DTSTART;TZID=America/Los_Angeles:20251002T090000
DTEND;TZID=America/Los_Angeles:20251002T100000
DTSTAMP:20260421T123550
CREATED:20250925T215117Z
LAST-MODIFIED:20250925T215133Z
UID:7175-1759395600-1759399200@www.haca.net
SUMMARY:Personnel Committee Special Meeting
DESCRIPTION:
URL:https://www.haca.net/event/personnel-committee-special-meeting-7/
END:VEVENT
BEGIN:VEVENT
DTSTART;TZID=America/Los_Angeles:20251008T080000
DTEND;TZID=America/Los_Angeles:20251008T090000
DTSTAMP:20260421T123550
CREATED:20251001T201122Z
LAST-MODIFIED:20251001T201122Z
UID:7226-1759910400-1759914000@www.haca.net
SUMMARY:** CANCELLED ** Housing Commission Regular Meeting
DESCRIPTION:
URL:https://www.haca.net/event/cancelled-housing-commission-regular-meeting-10/
END:VEVENT
BEGIN:VEVENT
DTSTART;VALUE=DATE:20251010
DTEND;VALUE=DATE:20251011
DTSTAMP:20260421T123550
CREATED:20241115T001428Z
LAST-MODIFIED:20241115T001428Z
UID:6284-1760054400-1760140799@www.haca.net
SUMMARY:Office Closed - HACA is closed every other Friday
DESCRIPTION:The Housing Authority of the County of Alameda (HACA) is closed every other Friday. \nPhone Hours: \nMain phone#:  (510) 538-8876 \nPhone hours:  Monday-Thursday & on the Fridays when the office is open:  8:00 a.m. until 5:00 p.m. \n  \nLobby Hours: \nMonday: 10:00 a.m. – 2:00 p.m. \nTuesday: 10:00 a.m. – 2:00 p.m. \nWednesday: 10:00 a.m. – 2:00 p.m. \nThursday: 10:00 a.m. – 2:00 p.m. \nFriday:  Lobby is closed.
URL:https://www.haca.net/event/office-closed-haca-is-closed-every-other-friday-21/
CATEGORIES:Office Closure
END:VEVENT
BEGIN:VEVENT
DTSTART;VALUE=DATE:20251013
DTEND;VALUE=DATE:20251014
DTSTAMP:20260421T123550
CREATED:20241114T234054Z
LAST-MODIFIED:20241114T234054Z
UID:6233-1760313600-1760399999@www.haca.net
SUMMARY:Office Closed - Indigenous Peoples' Day Holiday
DESCRIPTION:HACA is closed on Monday\, October 13\, 2025 in observance of the Indigenous Peoples’ Day holiday. The office will re-open on Tuesday\, October 14.
URL:https://www.haca.net/event/office-closed-indigenous-peoples-day-holiday/
CATEGORIES:Holiday Closure
END:VEVENT
BEGIN:VEVENT
DTSTART;TZID=America/Los_Angeles:20251015T080000
DTEND;TZID=America/Los_Angeles:20251015T090000
DTSTAMP:20260421T123550
CREATED:20251001T201218Z
LAST-MODIFIED:20251010T155247Z
UID:7228-1760515200-1760518800@www.haca.net
SUMMARY:Housing Commission Special Meeting
DESCRIPTION:
URL:https://www.haca.net/event/housing-commission-special-meeting-5/
END:VEVENT
BEGIN:VEVENT
DTSTART;TZID=America/Los_Angeles:20251017T090000
DTEND;TZID=America/Los_Angeles:20251017T223000
DTSTAMP:20260421T123550
CREATED:20251015T005759Z
LAST-MODIFIED:20251015T005759Z
UID:7271-1760691600-1760740200@www.haca.net
SUMMARY:Budget/Audit/Negotiations Committee Special Meeting
DESCRIPTION:
URL:https://www.haca.net/event/budget-audit-negotiations-committee-special-meeting-2/
END:VEVENT
BEGIN:VEVENT
DTSTART;VALUE=DATE:20251024
DTEND;VALUE=DATE:20251025
DTSTAMP:20260421T123550
CREATED:20241115T001515Z
LAST-MODIFIED:20241115T001515Z
UID:6286-1761264000-1761350399@www.haca.net
SUMMARY:Office Closed - HACA is closed every other Friday
DESCRIPTION:The Housing Authority of the County of Alameda (HACA) is closed every other Friday. \nPhone Hours: \nMain phone#:  (510) 538-8876 \nPhone hours:  Monday-Thursday & on the Fridays when the office is open:  8:00 a.m. until 5:00 p.m. \n  \nLobby Hours: \nMonday: 10:00 a.m. – 2:00 p.m. \nTuesday: 10:00 a.m. – 2:00 p.m. \nWednesday: 10:00 a.m. – 2:00 p.m. \nThursday: 10:00 a.m. – 2:00 p.m. \nFriday:  Lobby is closed.
URL:https://www.haca.net/event/office-closed-haca-is-closed-every-other-friday-22/
CATEGORIES:Office Closure
END:VEVENT
END:VCALENDAR