




BEGIN:VCALENDAR
VERSION:2.0
PRODID:-//Housing Authority Of County Of Alameda HACA - ECPv6.15.20//NONSGML v1.0//EN
CALSCALE:GREGORIAN
METHOD:PUBLISH
X-ORIGINAL-URL:https://www.haca.net
X-WR-CALDESC:Events for Housing Authority Of County Of Alameda HACA
REFRESH-INTERVAL;VALUE=DURATION:PT1H
X-Robots-Tag:noindex
X-PUBLISHED-TTL:PT1H
BEGIN:VTIMEZONE
TZID:America/Los_Angeles
BEGIN:DAYLIGHT
TZOFFSETFROM:-0800
TZOFFSETTO:-0700
TZNAME:PDT
DTSTART:20250309T100000
END:DAYLIGHT
BEGIN:STANDARD
TZOFFSETFROM:-0700
TZOFFSETTO:-0800
TZNAME:PST
DTSTART:20251102T090000
END:STANDARD
BEGIN:DAYLIGHT
TZOFFSETFROM:-0800
TZOFFSETTO:-0700
TZNAME:PDT
DTSTART:20260308T100000
END:DAYLIGHT
BEGIN:STANDARD
TZOFFSETFROM:-0700
TZOFFSETTO:-0800
TZNAME:PST
DTSTART:20261101T090000
END:STANDARD
BEGIN:DAYLIGHT
TZOFFSETFROM:-0800
TZOFFSETTO:-0700
TZNAME:PDT
DTSTART:20270314T100000
END:DAYLIGHT
BEGIN:STANDARD
TZOFFSETFROM:-0700
TZOFFSETTO:-0800
TZNAME:PST
DTSTART:20271107T090000
END:STANDARD
END:VTIMEZONE
BEGIN:VEVENT
DTSTART;VALUE=DATE:20260101
DTEND;VALUE=DATE:20260102
DTSTAMP:20260421T170852
CREATED:20251124T184130Z
LAST-MODIFIED:20251124T184447Z
UID:7394-1767225600-1767311999@www.haca.net
SUMMARY:Office Closed - New Year's Day Holiday
DESCRIPTION:
URL:https://www.haca.net/event/office-closed-new-years-day-holiday-2/
CATEGORIES:Holiday Closure
END:VEVENT
BEGIN:VEVENT
DTSTART;VALUE=DATE:20260102
DTEND;VALUE=DATE:20260103
DTSTAMP:20260421T170852
CREATED:20251124T184021Z
LAST-MODIFIED:20251124T184229Z
UID:7392-1767312000-1767398399@www.haca.net
SUMMARY:Office Closed - HACA is closed every other Friday
DESCRIPTION:The Housing Authority of the County of Alameda (HACA) office is closed every other Friday.  Please see below for phone & lobby hours. \nPhone Hours: \nMain Phone#:  (510) 538-8876 \nMonday-Thursday & Fridays (when the office is open):  8:00 a.m. – 5:00 p.m. \nLobby Hours: \nHACA’s lobby is open to the public on the following days: \nMonday: 10:00 a.m. – 2:00 p.m. \nTuesday: 10:00 a.m. – 2:00 p.m. \nWednesday: 10:00 a.m. – 2:00 p.m. \nThursday: 10:00 a.m. – 2:00 p.m. \nFriday:  Lobby is closed every Friday.
URL:https://www.haca.net/event/office-closed-haca-is-closed-every-other-friday-27/
CATEGORIES:Office Closure
END:VEVENT
BEGIN:VEVENT
DTSTART;TZID=America/Los_Angeles:20260114T080000
DTEND;TZID=America/Los_Angeles:20260114T090000
DTSTAMP:20260421T170852
CREATED:20260109T004410Z
LAST-MODIFIED:20260109T004410Z
UID:7586-1768377600-1768381200@www.haca.net
SUMMARY:*CANCELLED* Housing Commission Regular Meeting
DESCRIPTION:
URL:https://www.haca.net/event/cancelled-housing-commission-regular-meeting-12/
CATEGORIES:Commission Meetings
END:VEVENT
BEGIN:VEVENT
DTSTART;TZID=America/Los_Angeles:20260114T080000
DTEND;TZID=America/Los_Angeles:20260114T090000
DTSTAMP:20260421T170852
CREATED:20260109T011227Z
LAST-MODIFIED:20260109T011227Z
UID:7597-1768377600-1768381200@www.haca.net
SUMMARY:Budget/Audit/Negotiations Committee Special Meeting
DESCRIPTION:
URL:https://www.haca.net/event/budget-audit-negotiations-committee-special-meeting-4/
CATEGORIES:Commission Meetings
END:VEVENT
BEGIN:VEVENT
DTSTART;VALUE=DATE:20260116
DTEND;VALUE=DATE:20260117
DTSTAMP:20260421T170852
CREATED:20251124T184334Z
LAST-MODIFIED:20251124T184433Z
UID:7399-1768521600-1768607999@www.haca.net
SUMMARY:Office Closed - HACA is closed every other Friday
DESCRIPTION:The Housing Authority of the County of Alameda (HACA) office is closed every other Friday.  Please see below for phone & lobby hours. \nPhone Hours: \nMain Phone#:  (510) 538-8876 \nMonday-Thursday & Fridays (when the office is open):  8:00 a.m. – 5:00 p.m. \nLobby Hours: \nHACA’s lobby is open to the public on the following days: \nMonday: 10:00 a.m. – 2:00 p.m. \nTuesday: 10:00 a.m. – 2:00 p.m. \nWednesday: 10:00 a.m. – 2:00 p.m. \nThursday: 10:00 a.m. – 2:00 p.m. \nFriday:  Lobby is closed every Friday.
URL:https://www.haca.net/event/office-closed-haca-is-closed-every-other-friday-28/
CATEGORIES:Office Closure
END:VEVENT
BEGIN:VEVENT
DTSTART;VALUE=DATE:20260119
DTEND;VALUE=DATE:20260120
DTSTAMP:20260421T170852
CREATED:20251124T184724Z
LAST-MODIFIED:20251124T184724Z
UID:7403-1768780800-1768867199@www.haca.net
SUMMARY:Office Closed - Dr. Martin Luther King\, Jr. Day Holiday
DESCRIPTION:
URL:https://www.haca.net/event/office-closed-dr-martin-luther-king-jr-day-holiday/
CATEGORIES:Holiday Closure
END:VEVENT
BEGIN:VEVENT
DTSTART;VALUE=DATE:20260130
DTEND;VALUE=DATE:20260131
DTSTAMP:20260421T170852
CREATED:20251124T184414Z
LAST-MODIFIED:20251124T184457Z
UID:7401-1769731200-1769817599@www.haca.net
SUMMARY:Office Closed - HACA is closed every other Friday
DESCRIPTION:The Housing Authority of the County of Alameda (HACA) office is closed every other Friday.  Please see below for phone & lobby hours. \nPhone Hours: \nMain Phone#:  (510) 538-8876 \nMonday-Thursday & Fridays (when the office is open):  8:00 a.m. – 5:00 p.m. \nLobby Hours: \nHACA’s lobby is open to the public on the following days: \nMonday: 10:00 a.m. – 2:00 p.m. \nTuesday: 10:00 a.m. – 2:00 p.m. \nWednesday: 10:00 a.m. – 2:00 p.m. \nThursday: 10:00 a.m. – 2:00 p.m. \nFriday:  Lobby is closed every Friday.
URL:https://www.haca.net/event/office-closed-haca-is-closed-every-other-friday-29/
CATEGORIES:Office Closure
END:VEVENT
END:VCALENDAR