




BEGIN:VCALENDAR
VERSION:2.0
PRODID:-//Housing Authority Of County Of Alameda HACA - ECPv6.15.20//NONSGML v1.0//EN
CALSCALE:GREGORIAN
METHOD:PUBLISH
X-ORIGINAL-URL:https://www.haca.net
X-WR-CALDESC:Events for Housing Authority Of County Of Alameda HACA
REFRESH-INTERVAL;VALUE=DURATION:PT1H
X-Robots-Tag:noindex
X-PUBLISHED-TTL:PT1H
BEGIN:VTIMEZONE
TZID:America/Los_Angeles
BEGIN:DAYLIGHT
TZOFFSETFROM:-0800
TZOFFSETTO:-0700
TZNAME:PDT
DTSTART:20250309T100000
END:DAYLIGHT
BEGIN:STANDARD
TZOFFSETFROM:-0700
TZOFFSETTO:-0800
TZNAME:PST
DTSTART:20251102T090000
END:STANDARD
BEGIN:DAYLIGHT
TZOFFSETFROM:-0800
TZOFFSETTO:-0700
TZNAME:PDT
DTSTART:20260308T100000
END:DAYLIGHT
BEGIN:STANDARD
TZOFFSETFROM:-0700
TZOFFSETTO:-0800
TZNAME:PST
DTSTART:20261101T090000
END:STANDARD
BEGIN:DAYLIGHT
TZOFFSETFROM:-0800
TZOFFSETTO:-0700
TZNAME:PDT
DTSTART:20270314T100000
END:DAYLIGHT
BEGIN:STANDARD
TZOFFSETFROM:-0700
TZOFFSETTO:-0800
TZNAME:PST
DTSTART:20271107T090000
END:STANDARD
END:VTIMEZONE
BEGIN:VEVENT
DTSTART;TZID=America/Los_Angeles:20260311T080000
DTEND;TZID=America/Los_Angeles:20260311T090000
DTSTAMP:20260422T112146
CREATED:20260217T180515Z
LAST-MODIFIED:20260306T003048Z
UID:7698-1773216000-1773219600@www.haca.net
SUMMARY:Housing Commission Regular Meeting
DESCRIPTION:HOUSING AUTHORITY OF THE COUNTY OF ALAMEDA \nHOUSING COMMISSION REGULAR MEETING AGENDA \nRegular Meeting Date/Time: March 11\, 2026 at 8:00 a.m. \nMeeting Location:  HACA Board Room\, 22941 Atherton Street Hayward\, CA  94541-6633 \nRemote Participation Link:    https://us02web.zoom.us/j/88460095724 \nMEETING AGENDA \nItem No. 1:                    Call to Order and Roll Call \nItem No. 2:                    Public Hearing:  HACA’s Annual Public Housing Agency (PHA) Plan for the July 1\, 2026-June 30\, 2027 Fiscal Year \nItem No. 3:                    Approve the Minutes of the February 11\, 2026 Regular Meeting (Action) \nItem No. 4:                    Public Comment –  On matters not on the agenda. \nItem No. 5:                    Executive Director’s Report (Information Only) \nItem No. 6:                    New Business \nItem No.6-1:                  Approve HACA’s Annual Public Housing Agency (PHA) Plan for the July 1\, 2026-June 30\, 2027 Fiscal Year (Action) \nItem No.6-2:                  Quarterly Budget Status Report (Information Only) \nItem No.6-3:                  Presentation: Recognition of HACA’s Years of Service Award Recipients (Information Only) \nItem No.6-4:                  Programs Activity Report (Information Only) \nItem No.7:                     Communications (Information Only) \nItem No.8:                     Commissioner Reports (Information Only) \nItem No.9:                     Adjournment \nAs a courtesy\, and technology permitting\, members of the public may continue to participate virtually by Zoom. However\, HACA does not guarantee that the public’s access to teleconferencing or videoconferencing technology will be uninterrupted\, and technical difficulties may occur from time to time. Should Zoom not be available\, or become non-functioning\, or should the Housing Commission otherwise encounter technical difficulties that make Zoom unavailable\, the Housing Commission will proceed with business in person unless otherwise prohibited by law.  In-person attendees who wish to speak on a matter should request a speaker slip from the Housing Commission Clerk\, fill it out and return it to the clerk before the start of the meeting. Remote attendees should submit their written comment(s) to:  melissat@haca.net.  If emailing a written comment on a specific agenda item\, please include your full name and the agenda item number.  In-person and remote attendees who wish to comment on a matter NOT on the Housing Commission’s agenda must wait until the Chairperson calls for PUBLIC COMMENT.  Comments on specific agenda items will not take place until the Chairperson calls for public comments on that agenda item. There is a time limit of 3 minutes for each public speaker. The Chairperson has the discretion to further limit this time if warranted by the number of public speakers.  The Brown Act restricts the Housing Commission from discussing and/or acting on any matters that are not on the meeting agenda.  Therefore\, matters not on the agenda that are raised during public comment will be referred to staff.
URL:https://www.haca.net/event/housing-commission-regular-meeting-39/
END:VEVENT
BEGIN:VEVENT
DTSTART;VALUE=DATE:20260313
DTEND;VALUE=DATE:20260314
DTSTAMP:20260422T112146
CREATED:20251124T185159Z
LAST-MODIFIED:20251124T185159Z
UID:7413-1773360000-1773446399@www.haca.net
SUMMARY:Office Closed - HACA is closed every other Friday
DESCRIPTION:The Housing Authority of the County of Alameda (HACA) office is closed every other Friday.  Please see below for phone & lobby hours. \nPhone Hours: \nMain Phone#:  (510) 538-8876 \nMonday-Thursday & Fridays (when the office is open):  8:00 a.m. – 5:00 p.m. \nLobby Hours: \nHACA’s lobby is open to the public on the following days: \nMonday: 10:00 a.m. – 2:00 p.m. \nTuesday: 10:00 a.m. – 2:00 p.m. \nWednesday: 10:00 a.m. – 2:00 p.m. \nThursday: 10:00 a.m. – 2:00 p.m. \nFriday:  Lobby is closed every Friday.
URL:https://www.haca.net/event/office-closed-haca-is-closed-every-other-friday-32/
CATEGORIES:Office Closure
END:VEVENT
BEGIN:VEVENT
DTSTART;VALUE=DATE:20260327
DTEND;VALUE=DATE:20260328
DTSTAMP:20260422T112146
CREATED:20251124T185240Z
LAST-MODIFIED:20251124T185240Z
UID:7415-1774569600-1774655999@www.haca.net
SUMMARY:Office Closed - HACA is closed every other Friday
DESCRIPTION:The Housing Authority of the County of Alameda (HACA) office is closed every other Friday.  Please see below for phone & lobby hours. \nPhone Hours: \nMain Phone#:  (510) 538-8876 \nMonday-Thursday & Fridays (when the office is open):  8:00 a.m. – 5:00 p.m. \nLobby Hours: \nHACA’s lobby is open to the public on the following days: \nMonday: 10:00 a.m. – 2:00 p.m. \nTuesday: 10:00 a.m. – 2:00 p.m. \nWednesday: 10:00 a.m. – 2:00 p.m. \nThursday: 10:00 a.m. – 2:00 p.m. \nFriday:  Lobby is closed every Friday.
URL:https://www.haca.net/event/office-closed-haca-is-closed-every-other-friday-33/
CATEGORIES:Office Closure
END:VEVENT
BEGIN:VEVENT
DTSTART;VALUE=DATE:20260331
DTEND;VALUE=DATE:20260401
DTSTAMP:20260422T112146
CREATED:20251124T185331Z
LAST-MODIFIED:20251124T185331Z
UID:7417-1774915200-1775001599@www.haca.net
SUMMARY:Office Closed - Cesar Chavez's Birthday Holiday
DESCRIPTION:
URL:https://www.haca.net/event/office-closed-cesar-chavezs-birthday-holiday-2/
CATEGORIES:Holiday Closure
END:VEVENT
END:VCALENDAR